BEGIN:VCALENDAR
VERSION:2.0
PRODID:-//WasserwachtManching-Termine //wasserwacht-manching.de//DE
CALSCALE:GREGORIAN
BEGIN:VEVENT
DTSTART:20260619T000000
DTEND:20260620T210000
LOCATION:Heideweiher
DTSTAMP:T000000
SUMMARY:Erlebnistag 2026 KWW
URL;VALUE=URI:https://www.wasserwacht-manching.de/
DESCRIPTION:Erlebnistag 2026
weitere Infos findest du in der Ausschreibung! 
UID:20171026T130000-20171028T130000-20171028T143000
END:VEVENT
END:VCALENDAR
