BEGIN:VCALENDAR
VERSION:2.0
PRODID:-//WasserwachtManching-Termine //wasserwacht-manching.de//DE
CALSCALE:GREGORIAN
BEGIN:VEVENT
DTSTART:20260613T000000
DTEND:20260621T210000
LOCATION:Hallenbad Manching 
DTSTAMP:T000000
SUMMARY:Schwimmabzeichentage 2026
URL;VALUE=URI:https://www.wasserwacht-manching.de/
DESCRIPTION:Sei dabei – die Schwimmabzeichentage des Deutschen Schwimmverband vom 13.-21. Juni im Hallenbad Manching 

Samstag, 13.06.2026 10:00Uhr - 17:00Uhr
Sonntag, 14.06.2026 10:00Uhr - 17:00Uhr

Samstag, 20.06.2026 10:00Uhr - 17:00Uhr
Sonntag, 21.06.2026 10:00Uhr - 17:00Uhr

Schwimmen ist das eine, echte Sicherheit im Wasser das andere. Kurz bevor die Badesaison an den Seen und Weihern der Region wieder losgeht schließt sich die Wasserwacht Manching der Aktion „Schwimmabzeichentage 2026“ an. 
Schwimmen können ist nicht nur Spaß am See oder am Meer zu haben. Wer nicht schwimmen kann, riskiert sein Leben, wenn man ein Gummiboot, eine Luftmatratze benutzt oder z.B. im Urlaub ein Tretboot leiht.
Und auch für Mama und Papa ist es doch viel entspannter, wenn sie wissen, das du auch längere Strecken sicher schwimmen kannst!
Alle Infos zu den Abzeichen gibt es hier: https://www.schwimmabzeichentage.de/courses

Preis pro Abzeichen: 4,00€ 
UID:20171026T130000-20171028T130000-20171028T143000
END:VEVENT
END:VCALENDAR
